BEGIN:VCALENDAR
VERSION:2.0
PRODID:-//Wildtierretter Sachsen-Anhalt e.V. - ECPv6.15.20//NONSGML v1.0//EN
CALSCALE:GREGORIAN
METHOD:PUBLISH
X-WR-CALNAME:Wildtierretter Sachsen-Anhalt e.V.
X-ORIGINAL-URL:https://wildtierretter.org
X-WR-CALDESC:Veranstaltungen für Wildtierretter Sachsen-Anhalt e.V.
REFRESH-INTERVAL;VALUE=DURATION:PT1H
X-Robots-Tag:noindex
X-PUBLISHED-TTL:PT1H
BEGIN:VTIMEZONE
TZID:Europe/Berlin
BEGIN:DAYLIGHT
TZOFFSETFROM:+0100
TZOFFSETTO:+0200
TZNAME:CEST
DTSTART:20250330T010000
END:DAYLIGHT
BEGIN:STANDARD
TZOFFSETFROM:+0200
TZOFFSETTO:+0100
TZNAME:CET
DTSTART:20251026T010000
END:STANDARD
BEGIN:DAYLIGHT
TZOFFSETFROM:+0100
TZOFFSETTO:+0200
TZNAME:CEST
DTSTART:20260329T010000
END:DAYLIGHT
BEGIN:STANDARD
TZOFFSETFROM:+0200
TZOFFSETTO:+0100
TZNAME:CET
DTSTART:20261025T010000
END:STANDARD
BEGIN:DAYLIGHT
TZOFFSETFROM:+0100
TZOFFSETTO:+0200
TZNAME:CEST
DTSTART:20270328T010000
END:DAYLIGHT
BEGIN:STANDARD
TZOFFSETFROM:+0200
TZOFFSETTO:+0100
TZNAME:CET
DTSTART:20271031T010000
END:STANDARD
END:VTIMEZONE
BEGIN:VEVENT
DTSTART;TZID=Europe/Berlin:20260426T100000
DTEND;TZID=Europe/Berlin:20260426T140000
DTSTAMP:20260426T015345
CREATED:20251031T115114Z
LAST-MODIFIED:20260310T142950Z
UID:9872-1777197600-1777212000@wildtierretter.org
SUMMARY:Tag der Jagd und Natur 2026
DESCRIPTION:
URL:https://wildtierretter.org/event/tag-der-jagd-und-natur-2026/
LOCATION:Klubhaus Thale\, Walpurgisstraße 37\, Thale\, Sachsen-Anhalt\, 06502\, Germany
ATTACH;FMTTYPE=application/pdf:https://wildtierretter.org/wp-content/uploads/2025/10/Pusteblume.pdf
END:VEVENT
END:VCALENDAR