BEGIN:VCALENDAR
VERSION:2.0
PRODID:-//Wildtierretter Sachsen-Anhalt e.V. - ECPv6.15.20//NONSGML v1.0//EN
CALSCALE:GREGORIAN
METHOD:PUBLISH
X-WR-CALNAME:Wildtierretter Sachsen-Anhalt e.V.
X-ORIGINAL-URL:https://wildtierretter.org
X-WR-CALDESC:Veranstaltungen für Wildtierretter Sachsen-Anhalt e.V.
REFRESH-INTERVAL;VALUE=DURATION:PT1H
X-Robots-Tag:noindex
X-PUBLISHED-TTL:PT1H
BEGIN:VTIMEZONE
TZID:Europe/Berlin
BEGIN:DAYLIGHT
TZOFFSETFROM:+0100
TZOFFSETTO:+0200
TZNAME:CEST
DTSTART:20250330T010000
END:DAYLIGHT
BEGIN:STANDARD
TZOFFSETFROM:+0200
TZOFFSETTO:+0100
TZNAME:CET
DTSTART:20251026T010000
END:STANDARD
BEGIN:DAYLIGHT
TZOFFSETFROM:+0100
TZOFFSETTO:+0200
TZNAME:CEST
DTSTART:20260329T010000
END:DAYLIGHT
BEGIN:STANDARD
TZOFFSETFROM:+0200
TZOFFSETTO:+0100
TZNAME:CET
DTSTART:20261025T010000
END:STANDARD
BEGIN:DAYLIGHT
TZOFFSETFROM:+0100
TZOFFSETTO:+0200
TZNAME:CEST
DTSTART:20270328T010000
END:DAYLIGHT
BEGIN:STANDARD
TZOFFSETFROM:+0200
TZOFFSETTO:+0100
TZNAME:CET
DTSTART:20271031T010000
END:STANDARD
END:VTIMEZONE
BEGIN:VEVENT
DTSTART;TZID=Europe/Berlin:20260606T110000
DTEND;TZID=Europe/Berlin:20260606T160000
DTSTAMP:20260425T143806
CREATED:20260217T121550Z
LAST-MODIFIED:20260217T153521Z
UID:10313-1780743600-1780761600@wildtierretter.org
SUMMARY:Hoffest Bördegrün GmbH & Co. KG am 6. Juni 2026
DESCRIPTION:
URL:https://wildtierretter.org/event/hoffest-boerdegruen-gmbh-co-kg-am-6-juni-2026/
LOCATION:Urban Amtshof\, Amt 3\, Oschersleben OT Hadmersleben\, Sachsen-Anhalt\, 39387\, Germany
ATTACH;FMTTYPE=image/jpeg:https://wildtierretter.org/wp-content/uploads/2020/07/Czybik_Kitzrettung112-scaled.jpg
END:VEVENT
BEGIN:VEVENT
DTSTART;TZID=Europe/Berlin:20260612T100000
DTEND;TZID=Europe/Berlin:20260613T170000
DTSTAMP:20260425T143806
CREATED:20260418T105644Z
LAST-MODIFIED:20260418T105644Z
UID:10486-1781258400-1781370000@wildtierretter.org
SUMMARY:Frankonia Filialfesttage Juni 2026
DESCRIPTION:
URL:https://wildtierretter.org/event/frankonia-filialfesttage-juni-2026/
LOCATION:Frankonia\, Berliner Alle 11\, Hohe Börde\, 39326
ATTACH;FMTTYPE=image/jpeg:https://wildtierretter.org/wp-content/uploads/2026/04/Gruen-Creme-Illustrativ-Minimalistisch-Winterlich-Kissen_20260417_232235_00003.jpg
END:VEVENT
END:VCALENDAR